BEGIN:VCALENDAR
VERSION:2.0
PRODID:-//217.160.0.23//NONSGML kigkonsult.se iCalcreator 2.20//
CALSCALE:GREGORIAN
METHOD:PUBLISH
X-WR-TIMEZONE:UTC
BEGIN:VEVENT
UID:event972@Förderverein Stadtbibliothek Rottenburg
DTSTAMP:20260423T093344Z
CATEGORIES:allgemeine Veranstaltung
DESCRIPTION:Lesehasen-Treff\nKategorie: allgemeine Veranstaltung\nICS-Link:
  https://www.foerderverein-stadtbibliothek-rottenburg.de/index.php?option=
 com_jem&view=event&id=972:lesehasen-treff\n
DTSTART:20230104T150000Z
DTEND:20230104T160000Z
LOCATION:Stadtbibliothek 2. Stock\, Seminarraum\,Königstraße 2\,72108 Rotte
 nburg
SUMMARY:Lesehasen-Treff
URL:https://www.foerderverein-stadtbibliothek-rottenburg.de/index.php?optio
 n=com_jem&view=event&id=972:lesehasen-treff
END:VEVENT
END:VCALENDAR
