BEGIN:VCALENDAR
VERSION:2.0
PRODID:-//217.160.0.23//NONSGML kigkonsult.se iCalcreator 2.20//
CALSCALE:GREGORIAN
METHOD:PUBLISH
X-WR-TIMEZONE:UTC
BEGIN:VEVENT
UID:event968@Förderverein Stadtbibliothek Rottenburg
DTSTAMP:20260424T081444Z
CATEGORIES:allgemeine Veranstaltung
DESCRIPTION:Ökonomisierung des Gesundheitswesens  Was hat sich verändert – 
 was muss sich ändern?\nKategorie: allgemeine Veranstaltung\nICS-Link: http
 s://www.foerderverein-stadtbibliothek-rottenburg.de/index.php?option=com_j
 em&view=event&id=968\n
DTSTART:20221128T100000Z
DTEND:20221128T113000Z
LOCATION:Café Stadtgespräch\,Königstraße 2\,72108 Rottenburg
SUMMARY:Ökonomisierung des Gesundheitswesens  Was hat sich verändert – was 
 muss sich ändern?
URL:https://www.foerderverein-stadtbibliothek-rottenburg.de/index.php?optio
 n=com_jem&view=event&id=968
END:VEVENT
END:VCALENDAR
