BEGIN:VCALENDAR
VERSION:2.0
PRODID:-//217.160.0.23//NONSGML kigkonsult.se iCalcreator 2.20//
CALSCALE:GREGORIAN
METHOD:PUBLISH
X-WR-TIMEZONE:UTC
BEGIN:VEVENT
UID:event877@Förderverein Stadtbibliothek Rottenburg
DTSTAMP:20260422T232615Z
CATEGORIES:allgemeine Veranstaltung
DESCRIPTION:Bettina von Arnim\nKategorie: allgemeine Veranstaltung\nICS-Lin
 k: https://www.foerderverein-stadtbibliothek-rottenburg.de/index.php?optio
 n=com_jem&view=event&id=877\n
DTSTART:20211204T160000Z
DTEND:20211204T173000Z
LOCATION:Café Stadtgespräch\,Königstraße 2\,72108 Rottenburg
SUMMARY:Bettina von Arnim
URL:https://www.foerderverein-stadtbibliothek-rottenburg.de/index.php?optio
 n=com_jem&view=event&id=877
END:VEVENT
END:VCALENDAR
