BEGIN:VCALENDAR
VERSION:2.0
PRODID:-//217.160.0.23//NONSGML kigkonsult.se iCalcreator 2.20//
CALSCALE:GREGORIAN
METHOD:PUBLISH
X-WR-TIMEZONE:UTC
BEGIN:VEVENT
UID:event840@Förderverein Stadtbibliothek Rottenburg
DTSTAMP:20260422T151830Z
CATEGORIES:allgemeine Veranstaltung
DESCRIPTION:Die Corona-Pandemie - Auswirkungen und Folgen für Gesellschaft 
 und Demokratie\nKategorie: allgemeine Veranstaltung\nICS-Link: https://www
 .foerderverein-stadtbibliothek-rottenburg.de/index.php?option=com_jem&view
 =event&id=840\n
DTSTART:20210628T100000Z
DTEND:20210628T113000Z
LOCATION:Café Stadtgespräch\,Königstraße 2\,72108 Rottenburg
SUMMARY:Die Corona-Pandemie - Auswirkungen und Folgen für Gesellschaft und 
 Demokratie
URL:https://www.foerderverein-stadtbibliothek-rottenburg.de/index.php?optio
 n=com_jem&view=event&id=840
END:VEVENT
END:VCALENDAR
