BEGIN:VCALENDAR
VERSION:2.0
PRODID:-//217.160.0.23//NONSGML kigkonsult.se iCalcreator 2.20//
CALSCALE:GREGORIAN
METHOD:PUBLISH
X-WR-TIMEZONE:UTC
BEGIN:VEVENT
UID:event824@Förderverein Stadtbibliothek Rottenburg
DTSTAMP:20260422T232545Z
CATEGORIES:allgemeine Veranstaltung
DESCRIPTION:ONLINE-Lesung: Schwäbisch gneckt ond gsonge mit Wolfgang Wulz u
 nd Pius Jauch\nKategorie: allgemeine Veranstaltung\nICS-Link: https://www.
 foerderverein-stadtbibliothek-rottenburg.de/index.php?option=com_jem&view=
 event&id=824\n
DTSTART:20210507T193000Z
DTEND:20210507T210000Z
LOCATION:Café Stadtgespräch\,Königstraße 2\,72108 Rottenburg
SUMMARY:ONLINE-Lesung: Schwäbisch gneckt ond gsonge mit Wolfgang Wulz und P
 ius Jauch
URL:https://www.foerderverein-stadtbibliothek-rottenburg.de/index.php?optio
 n=com_jem&view=event&id=824
END:VEVENT
END:VCALENDAR
