BEGIN:VCALENDAR
VERSION:2.0
PRODID:-//217.160.0.23//NONSGML kigkonsult.se iCalcreator 2.20//
CALSCALE:GREGORIAN
METHOD:PUBLISH
X-WR-TIMEZONE:UTC
BEGIN:VEVENT
UID:event793@Förderverein Stadtbibliothek Rottenburg
DTSTAMP:20260423T011206Z
CATEGORIES:allgemeine Veranstaltung
DESCRIPTION:Demokratie\, Wahrheitskrise und Protestkultur - Onlineveranstal
 tung\nKategorie: allgemeine Veranstaltung\nICS-Link: https://www.foerderve
 rein-stadtbibliothek-rottenburg.de/index.php?option=com_jem&view=event&id=
 793\n
DTSTART:20201222T100000Z
DTEND:20201222T113000Z
LOCATION:Café Stadtgespräch\,Königstraße 2\,72108 Rottenburg
SUMMARY:Demokratie\, Wahrheitskrise und Protestkultur - Onlineveranstaltung
URL:https://www.foerderverein-stadtbibliothek-rottenburg.de/index.php?optio
 n=com_jem&view=event&id=793
END:VEVENT
END:VCALENDAR
