BEGIN:VCALENDAR
VERSION:2.0
PRODID:-//217.160.0.23//NONSGML kigkonsult.se iCalcreator 2.20//
CALSCALE:GREGORIAN
METHOD:PUBLISH
X-WR-TIMEZONE:UTC
BEGIN:VEVENT
UID:event777@Förderverein Stadtbibliothek Rottenburg
DTSTAMP:20260420T215645Z
CATEGORIES:KInder bis 7 Jahre
DESCRIPTION:ABGESAGT: Kindertheater Mein Freund Charlie! - das interaktive 
 Kindertheater mit Hund\nKategorie: KInder bis 7 Jahre\nICS-Link: https://w
 ww.foerderverein-stadtbibliothek-rottenburg.de/index.php?option=com_jem&vi
 ew=event&id=777\n
DTSTART:20201024T150000Z
DTEND:20201024T230000Z
LOCATION:Café Stadtgespräch\,Königstraße 2\,72108 Rottenburg
SUMMARY:ABGESAGT: Kindertheater Mein Freund Charlie! - das interaktive Kind
 ertheater mit Hund
URL:https://www.foerderverein-stadtbibliothek-rottenburg.de/index.php?optio
 n=com_jem&view=event&id=777
END:VEVENT
END:VCALENDAR
