BEGIN:VCALENDAR
VERSION:2.0
PRODID:-//217.160.0.23//NONSGML kigkonsult.se iCalcreator 2.20//
CALSCALE:GREGORIAN
METHOD:PUBLISH
X-WR-TIMEZONE:UTC
BEGIN:VEVENT
UID:event774@Förderverein Stadtbibliothek Rottenburg
DTSTAMP:20260422T151659Z
CATEGORIES:KInder bis 7 Jahre
DESCRIPTION:Der Lesehase - Vorlesen ab 5\nKategorie: KInder bis 7 Jahre\nIC
 S-Link: https://www.foerderverein-stadtbibliothek-rottenburg.de/index.php?
 option=com_jem&view=event&id=774\n
DTSTART:20201021T154500Z
DTEND:20201021T161500Z
LOCATION:Café Stadtgespräch\,Königstraße 2\,72108 Rottenburg
SUMMARY:Der Lesehase - Vorlesen ab 5
URL:https://www.foerderverein-stadtbibliothek-rottenburg.de/index.php?optio
 n=com_jem&view=event&id=774
END:VEVENT
END:VCALENDAR
