BEGIN:VCALENDAR
VERSION:2.0
PRODID:-//217.160.0.23//NONSGML kigkonsult.se iCalcreator 2.20//
CALSCALE:GREGORIAN
METHOD:PUBLISH
X-WR-TIMEZONE:UTC
BEGIN:VEVENT
UID:event77@Förderverein Stadtbibliothek Rottenburg
DTSTAMP:20260422T234610Z
CATEGORIES:Jugendliche
DESCRIPTION:Offener Spieletreff\nKategorie: Jugendliche\nICS-Link: https://
 www.foerderverein-stadtbibliothek-rottenburg.de/index.php?option=com_jem&v
 iew=event&id=77:offener-spieletreff\n
DTSTART:20190712T163000Z
DTEND:20190712T163000Z
LOCATION:Stadtbibliothek 2. Stock\,Königstraße 2\,72108 Rottenburg
SUMMARY:Offener Spieletreff
URL:https://www.foerderverein-stadtbibliothek-rottenburg.de/index.php?optio
 n=com_jem&view=event&id=77:offener-spieletreff
END:VEVENT
END:VCALENDAR
