BEGIN:VCALENDAR
VERSION:2.0
PRODID:-//217.160.0.23//NONSGML kigkonsult.se iCalcreator 2.20//
CALSCALE:GREGORIAN
METHOD:PUBLISH
X-WR-TIMEZONE:UTC
BEGIN:VEVENT
UID:event748@Förderverein Stadtbibliothek Rottenburg
DTSTAMP:20260422T172300Z
CATEGORIES:allgemeine Veranstaltung
DESCRIPTION:ABGESAGT: Bettina von Arnim - Eine Lesung mit der Schauspieleri
 n Chrysi Taossanis\nKategorie: allgemeine Veranstaltung\nICS-Link: https:/
 /www.foerderverein-stadtbibliothek-rottenburg.de/index.php?option=com_jem&
 view=event&id=748\n
DTSTART:20201121T170000Z
DTEND:20201121T170000Z
LOCATION:Café Stadtgespräch\,Königstraße 2\,72108 Rottenburg
SUMMARY:ABGESAGT: Bettina von Arnim - Eine Lesung mit der Schauspielerin Ch
 rysi Taossanis
URL:https://www.foerderverein-stadtbibliothek-rottenburg.de/index.php?optio
 n=com_jem&view=event&id=748
END:VEVENT
END:VCALENDAR
