BEGIN:VCALENDAR
VERSION:2.0
PRODID:-//217.160.0.23//NONSGML kigkonsult.se iCalcreator 2.20//
CALSCALE:GREGORIAN
METHOD:PUBLISH
X-WR-TIMEZONE:UTC
BEGIN:VEVENT
UID:event745@Förderverein Stadtbibliothek Rottenburg
DTSTAMP:20260422T100616Z
CATEGORIES:allgemeine Veranstaltung
DESCRIPTION:Pc\, Notebook\, Tablet\, Smartphone oder E-Book - Was ist das r
 ichtige für mich?\nKategorie: allgemeine Veranstaltung\nICS-Link: https://
 www.foerderverein-stadtbibliothek-rottenburg.de/index.php?option=com_jem&v
 iew=event&id=745\n
DTSTART:20200929T163000Z
DTEND:20200929T163000Z
LOCATION:Café Stadtgespräch\,Königstraße 2\,72108 Rottenburg
SUMMARY:Pc\, Notebook\, Tablet\, Smartphone oder E-Book - Was ist das richt
 ige für mich?
URL:https://www.foerderverein-stadtbibliothek-rottenburg.de/index.php?optio
 n=com_jem&view=event&id=745
END:VEVENT
END:VCALENDAR
