BEGIN:VCALENDAR
VERSION:2.0
PRODID:-//217.160.0.23//NONSGML kigkonsult.se iCalcreator 2.20//
CALSCALE:GREGORIAN
METHOD:PUBLISH
X-WR-TIMEZONE:UTC
BEGIN:VEVENT
UID:event712@Förderverein Stadtbibliothek Rottenburg
DTSTAMP:20260423T005705Z
CATEGORIES:allgemeine Veranstaltung
DESCRIPTION:ABGESAGT: Foodsharing  - gegen Lebensmittelverschwendung\nKateg
 orie: allgemeine Veranstaltung\nICS-Link: https://www.foerderverein-stadtb
 ibliothek-rottenburg.de/index.php?option=com_jem&view=event&id=712\n
DTSTART:20200423T190000Z
DTEND:20200423T230000Z
LOCATION:Café Stadtgespräch\,Königstraße 2\,72108 Rottenburg
SUMMARY:ABGESAGT: Foodsharing  - gegen Lebensmittelverschwendung
URL:https://www.foerderverein-stadtbibliothek-rottenburg.de/index.php?optio
 n=com_jem&view=event&id=712
END:VEVENT
END:VCALENDAR
