BEGIN:VCALENDAR
VERSION:2.0
PRODID:-//217.160.0.23//NONSGML kigkonsult.se iCalcreator 2.20//
CALSCALE:GREGORIAN
METHOD:PUBLISH
X-WR-TIMEZONE:UTC
BEGIN:VEVENT
UID:event695@Förderverein Stadtbibliothek Rottenburg
DTSTAMP:20260420T180621Z
CATEGORIES:KInder bis 7 Jahre
DESCRIPTION:ABGESAGT! (Vorlesen zur Marktzeit)\nKategorie: KInder bis 7 Jah
 re\nICS-Link: https://www.foerderverein-stadtbibliothek-rottenburg.de/inde
 x.php?option=com_jem&view=event&id=695:vorlesen-zur-marktzeit\n
DTSTART:20200404T110000Z
DTEND:20200404T110000Z
LOCATION:Stadtbibliothek 1. Stock\,Königstraße 2\,72108 Rottenburg
SUMMARY:ABGESAGT! (Vorlesen zur Marktzeit)
URL:https://www.foerderverein-stadtbibliothek-rottenburg.de/index.php?optio
 n=com_jem&view=event&id=695:vorlesen-zur-marktzeit
END:VEVENT
END:VCALENDAR
