BEGIN:VCALENDAR
VERSION:2.0
PRODID:-//217.160.0.23//NONSGML kigkonsult.se iCalcreator 2.20//
CALSCALE:GREGORIAN
METHOD:PUBLISH
X-WR-TIMEZONE:UTC
BEGIN:VEVENT
UID:event694@Förderverein Stadtbibliothek Rottenburg
DTSTAMP:20260422T223622Z
CATEGORIES:Kleinkinder
DESCRIPTION:ABGESAGT! (Bücherbienchen)\nKategorie: Kleinkinder\nICS-Link: h
 ttps://www.foerderverein-stadtbibliothek-rottenburg.de/index.php?option=co
 m_jem&view=event&id=694:buecherbienchen\n
DTSTART:20200402T150000Z
DTEND:20200402T150000Z
LOCATION:Stadtbibliothek 2. Stock\,Königstraße 2\,72108 Rottenburg
SUMMARY:ABGESAGT! (Bücherbienchen)
URL:https://www.foerderverein-stadtbibliothek-rottenburg.de/index.php?optio
 n=com_jem&view=event&id=694:buecherbienchen
END:VEVENT
END:VCALENDAR
