BEGIN:VCALENDAR
VERSION:2.0
PRODID:-//217.160.0.23//NONSGML kigkonsult.se iCalcreator 2.20//
CALSCALE:GREGORIAN
METHOD:PUBLISH
X-WR-TIMEZONE:UTC
BEGIN:VEVENT
UID:event677@Förderverein Stadtbibliothek Rottenburg
DTSTAMP:20260422T190600Z
CATEGORIES:allgemeine Veranstaltung
DESCRIPTION:Spieletreff für Senior*innen\nKategorie: allgemeine Veranstaltu
 ng\nICS-Link: https://www.foerderverein-stadtbibliothek-rottenburg.de/inde
 x.php?option=com_jem&view=event&id=677\n
DTSTART:20200124T000000Z
DTEND:20200124T000000Z
LOCATION:Stadtbibliothek 2. Stock\, Seminarraum\,Königstraße 2\,72108 Rotte
 nburg
SUMMARY:Spieletreff für Senior*innen
URL:https://www.foerderverein-stadtbibliothek-rottenburg.de/index.php?optio
 n=com_jem&view=event&id=677
END:VEVENT
END:VCALENDAR
