BEGIN:VCALENDAR
VERSION:2.0
PRODID:-//217.160.0.23//NONSGML kigkonsult.se iCalcreator 2.20//
CALSCALE:GREGORIAN
METHOD:PUBLISH
X-WR-TIMEZONE:UTC
BEGIN:VEVENT
UID:event45@Förderverein Stadtbibliothek Rottenburg
DTSTAMP:20260422T140105Z
CATEGORIES:allgemeine Veranstaltung
DESCRIPTION:Poetry Slam\nKategorie: allgemeine Veranstaltung\nICS-Link: htt
 ps://www.foerderverein-stadtbibliothek-rottenburg.de/index.php?option=com_
 jem&view=event&id=45:poetry-slam\n
DTSTART:20190504T183000Z
DTEND:20190504T220000Z
LOCATION:Stadtbibliothek 2. Stock\,Königstraße 2\,72108 Rottenburg
SUMMARY:Poetry Slam
URL:https://www.foerderverein-stadtbibliothek-rottenburg.de/index.php?optio
 n=com_jem&view=event&id=45:poetry-slam
END:VEVENT
END:VCALENDAR
