BEGIN:VCALENDAR
VERSION:2.0
PRODID:-//217.160.0.23//NONSGML kigkonsult.se iCalcreator 2.20//
CALSCALE:GREGORIAN
METHOD:PUBLISH
X-WR-TIMEZONE:UTC
BEGIN:VEVENT
UID:event43@Förderverein Stadtbibliothek Rottenburg
DTSTAMP:20260422T103608Z
CATEGORIES:allgemeine Veranstaltung
DESCRIPTION:Fotoausstellung Alles immer von Jan von Holleben \nKategorie: a
 llgemeine Veranstaltung\nICS-Link: https://www.foerderverein-stadtbiblioth
 ek-rottenburg.de/index.php?option=com_jem&view=event&id=43:fotoausstellung
 -alles-immer-von-jan-von-holleben\n
DTSTART:20190408T000000Z
DTEND:20190408T000000Z
LOCATION:Stadtbibliothek 2. Stock\,Königstraße 2\,72108 Rottenburg
SUMMARY:Fotoausstellung Alles immer von Jan von Holleben 
URL:https://www.foerderverein-stadtbibliothek-rottenburg.de/index.php?optio
 n=com_jem&view=event&id=43:fotoausstellung-alles-immer-von-jan-von-hollebe
 n
END:VEVENT
END:VCALENDAR
