BEGIN:VCALENDAR
VERSION:2.0
PRODID:-//217.160.0.23//NONSGML kigkonsult.se iCalcreator 2.20//
CALSCALE:GREGORIAN
METHOD:PUBLISH
X-WR-TIMEZONE:UTC
BEGIN:VEVENT
UID:event368@Förderverein Stadtbibliothek Rottenburg
DTSTAMP:20260422T103523Z
CATEGORIES:allgemeine Veranstaltung
DESCRIPTION:Digitale Stadtbibliothek - Offene Sprechstunde\nKategorie: allg
 emeine Veranstaltung\nICS-Link: https://www.foerderverein-stadtbibliothek-
 rottenburg.de/index.php?option=com_jem&view=event&id=368:digitale-stadtbib
 liothek-offene-sprechstunde-fuer-ihre-fragen-zu-onleihe-streaming-zeitunge
 n-und-digitale-angebote\n
DTSTART:20191105T140000Z
DTEND:20191105T160000Z
LOCATION:Café Stadtgespräch\,Königstraße 2\,72108 Rottenburg
SUMMARY:Digitale Stadtbibliothek - Offene Sprechstunde
URL:https://www.foerderverein-stadtbibliothek-rottenburg.de/index.php?optio
 n=com_jem&view=event&id=368:digitale-stadtbibliothek-offene-sprechstunde-f
 uer-ihre-fragen-zu-onleihe-streaming-zeitungen-und-digitale-angebote
END:VEVENT
END:VCALENDAR
