BEGIN:VCALENDAR
VERSION:2.0
PRODID:-//217.160.0.23//NONSGML kigkonsult.se iCalcreator 2.20//
CALSCALE:GREGORIAN
METHOD:PUBLISH
X-WR-TIMEZONE:UTC
BEGIN:VEVENT
UID:event204@Förderverein Stadtbibliothek Rottenburg
DTSTAMP:20260422T223428Z
CATEGORIES:allgemeine Veranstaltung
DESCRIPTION:Vortrag: Entzündliche Darmerkrankungen (Teil 3)\nKategorie: all
 gemeine Veranstaltung\nICS-Link: https://www.foerderverein-stadtbibliothek
 -rottenburg.de/index.php?option=com_jem&view=event&id=204\n
DTSTART:20191121T193000Z
DTEND:20191121T193000Z
LOCATION:Café Stadtgespräch\,Königstraße 2\,72108 Rottenburg
SUMMARY:Vortrag: Entzündliche Darmerkrankungen (Teil 3)
URL:https://www.foerderverein-stadtbibliothek-rottenburg.de/index.php?optio
 n=com_jem&view=event&id=204
END:VEVENT
END:VCALENDAR
