BEGIN:VCALENDAR
VERSION:2.0
PRODID:-//217.160.0.23//NONSGML kigkonsult.se iCalcreator 2.20//
CALSCALE:GREGORIAN
METHOD:PUBLISH
X-WR-TIMEZONE:UTC
BEGIN:VEVENT
UID:event199@Förderverein Stadtbibliothek Rottenburg
DTSTAMP:20260422T205745Z
CATEGORIES:allgemeine Veranstaltung
DESCRIPTION:Trickfilm-Workshop\nKategorie: allgemeine Veranstaltung\nICS-Li
 nk: https://www.foerderverein-stadtbibliothek-rottenburg.de/index.php?opti
 on=com_jem&view=event&id=199\n
DTSTART:20191026T100000Z
DTEND:20191026T150000Z
LOCATION:Stadtbibliothek 2. Stock\, Seminarraum\,Königstraße 2\,72108 Rotte
 nburg
SUMMARY:Trickfilm-Workshop
URL:https://www.foerderverein-stadtbibliothek-rottenburg.de/index.php?optio
 n=com_jem&view=event&id=199
END:VEVENT
END:VCALENDAR
