BEGIN:VCALENDAR
VERSION:2.0
PRODID:-//217.160.0.23//NONSGML kigkonsult.se iCalcreator 2.20//
CALSCALE:GREGORIAN
METHOD:PUBLISH
X-WR-TIMEZONE:UTC
BEGIN:VEVENT
UID:event167@Förderverein Stadtbibliothek Rottenburg
DTSTAMP:20260422T171838Z
CATEGORIES:allgemeine Veranstaltung
DESCRIPTION:Auftaktveranstaltung Weiterbildungsprogramm - Let´s act\nKatego
 rie: allgemeine Veranstaltung\nICS-Link: https://www.foerderverein-stadtbi
 bliothek-rottenburg.de/index.php?option=com_jem&view=event&id=167\n
DTSTART:20191011T190000Z
DTEND:20191011T190000Z
LOCATION:Café Stadtgespräch\,Königstraße 2\,72108 Rottenburg
SUMMARY:Auftaktveranstaltung Weiterbildungsprogramm - Let´s act
URL:https://www.foerderverein-stadtbibliothek-rottenburg.de/index.php?optio
 n=com_jem&view=event&id=167
END:VEVENT
END:VCALENDAR
