BEGIN:VCALENDAR
VERSION:2.0
PRODID:-//217.160.0.23//NONSGML kigkonsult.se iCalcreator 2.20//
CALSCALE:GREGORIAN
METHOD:PUBLISH
X-WR-TIMEZONE:UTC
BEGIN:VEVENT
UID:event151@Förderverein Stadtbibliothek Rottenburg
DTSTAMP:20260422T134920Z
CATEGORIES:allgemeine Veranstaltung
DESCRIPTION:Spieletreff für SeniorInnen\nKategorie: allgemeine Veranstaltun
 g\nICS-Link: https://www.foerderverein-stadtbibliothek-rottenburg.de/index
 .php?option=com_jem&view=event&id=151\n
DTSTART:20200110T143000Z
DTEND:20200110T160000Z
LOCATION:Stadtbibliothek 2. Stock\, Seminarraum\,Königstraße 2\,72108 Rotte
 nburg
SUMMARY:Spieletreff für SeniorInnen
URL:https://www.foerderverein-stadtbibliothek-rottenburg.de/index.php?optio
 n=com_jem&view=event&id=151
END:VEVENT
END:VCALENDAR
