BEGIN:VCALENDAR
VERSION:2.0
PRODID:-//217.160.0.23//NONSGML kigkonsult.se iCalcreator 2.20//
CALSCALE:GREGORIAN
METHOD:PUBLISH
X-WR-TIMEZONE:UTC
BEGIN:VEVENT
UID:event1313@Förderverein Stadtbibliothek Rottenburg
DTSTAMP:20260422T082640Z
CATEGORIES:allgemeine Veranstaltung
DESCRIPTION:Autorenlesung mit Dagmar Geisler\nKategorie: allgemeine Veranst
 altung\nICS-Link: https://www.foerderverein-stadtbibliothek-rottenburg.de/
 index.php?option=com_jem&view=event&id=1313\n
DTSTART:20260423T083000Z
DTEND:20260423T083000Z
LOCATION:Café Stadtgespräch\,Königstraße 2\,72108 Rottenburg
SUMMARY:Autorenlesung mit Dagmar Geisler
URL:https://www.foerderverein-stadtbibliothek-rottenburg.de/index.php?optio
 n=com_jem&view=event&id=1313
END:VEVENT
END:VCALENDAR
