BEGIN:VCALENDAR
VERSION:2.0
PRODID:-//217.160.0.23//NONSGML kigkonsult.se iCalcreator 2.20//
CALSCALE:GREGORIAN
METHOD:PUBLISH
X-WR-TIMEZONE:UTC
BEGIN:VEVENT
UID:event1299@Förderverein Stadtbibliothek Rottenburg
DTSTAMP:20260422T223331Z
CATEGORIES:allgemeine Veranstaltung
DESCRIPTION:RoboWerkstatt\nKategorie: allgemeine Veranstaltung\nICS-Link: h
 ttps://www.foerderverein-stadtbibliothek-rottenburg.de/index.php?option=co
 m_jem&view=event&id=1299\n
DTSTART:20260221T120000Z
DTEND:20260221T120000Z
LOCATION:Café Stadtgespräch\,Königstraße 2\,72108 Rottenburg
SUMMARY:RoboWerkstatt
URL:https://www.foerderverein-stadtbibliothek-rottenburg.de/index.php?optio
 n=com_jem&view=event&id=1299
END:VEVENT
END:VCALENDAR
