BEGIN:VCALENDAR
VERSION:2.0
PRODID:-//217.160.0.23//NONSGML kigkonsult.se iCalcreator 2.20//
CALSCALE:GREGORIAN
METHOD:PUBLISH
X-WR-TIMEZONE:UTC
BEGIN:VEVENT
UID:event1291@Förderverein Stadtbibliothek Rottenburg
DTSTAMP:20260423T004136Z
CATEGORIES:allgemeine Veranstaltung
DESCRIPTION:Roboter-Führerschein\nKategorie: allgemeine Veranstaltung\nICS-
 Link: https://www.foerderverein-stadtbibliothek-rottenburg.de/index.php?op
 tion=com_jem&view=event&id=1291\n
DTSTART:20260115T150000Z
DTEND:20260115T150000Z
LOCATION:Café Stadtgespräch\,Königstraße 2\,72108 Rottenburg
SUMMARY:Roboter-Führerschein
URL:https://www.foerderverein-stadtbibliothek-rottenburg.de/index.php?optio
 n=com_jem&view=event&id=1291
END:VEVENT
END:VCALENDAR
