BEGIN:VCALENDAR
VERSION:2.0
PRODID:-//217.160.0.23//NONSGML kigkonsult.se iCalcreator 2.20//
CALSCALE:GREGORIAN
METHOD:PUBLISH
X-WR-TIMEZONE:UTC
BEGIN:VEVENT
UID:event1274@Förderverein Stadtbibliothek Rottenburg
DTSTAMP:20260423T021613Z
CATEGORIES:allgemeine Veranstaltung
DESCRIPTION:Freundschaft: Freunde begleiten uns durch das Leben\nKategorie:
  allgemeine Veranstaltung\nICS-Link: https://www.foerderverein-stadtbiblio
 thek-rottenburg.de/index.php?option=com_jem&view=event&id=1274\n
DTSTART:20251026T093000Z
DTEND:20251026T093000Z
LOCATION:Café Stadtgespräch\,Königstraße 2\,72108 Rottenburg
SUMMARY:Freundschaft: Freunde begleiten uns durch das Leben
URL:https://www.foerderverein-stadtbibliothek-rottenburg.de/index.php?optio
 n=com_jem&view=event&id=1274
END:VEVENT
END:VCALENDAR
