BEGIN:VCALENDAR
VERSION:2.0
PRODID:-//217.160.0.23//NONSGML kigkonsult.se iCalcreator 2.20//
CALSCALE:GREGORIAN
METHOD:PUBLISH
X-WR-TIMEZONE:UTC
BEGIN:VEVENT
UID:event1273@Förderverein Stadtbibliothek Rottenburg
DTSTAMP:20260423T023720Z
CATEGORIES:allgemeine Veranstaltung
DESCRIPTION:KIJU Film | Kino im Waldhorn\nKategorie: allgemeine Veranstaltu
 ng\nICS-Link: https://www.foerderverein-stadtbibliothek-rottenburg.de/inde
 x.php?option=com_jem&view=event&id=1273\n
DTSTART:20251025T100000Z
DTEND:20251025T100000Z
LOCATION:Café Stadtgespräch\,Königstraße 2\,72108 Rottenburg
SUMMARY:KIJU Film | Kino im Waldhorn
URL:https://www.foerderverein-stadtbibliothek-rottenburg.de/index.php?optio
 n=com_jem&view=event&id=1273
END:VEVENT
END:VCALENDAR
