BEGIN:VCALENDAR
VERSION:2.0
PRODID:-//217.160.0.23//NONSGML kigkonsult.se iCalcreator 2.20//
CALSCALE:GREGORIAN
METHOD:PUBLISH
X-WR-TIMEZONE:UTC
BEGIN:VEVENT
UID:event1271@Förderverein Stadtbibliothek Rottenburg
DTSTAMP:20260423T024538Z
CATEGORIES:allgemeine Veranstaltung
DESCRIPTION:Herr Fuchs mag Po-esie!\nKategorie: allgemeine Veranstaltung\nI
 CS-Link: https://www.foerderverein-stadtbibliothek-rottenburg.de/index.php
 ?option=com_jem&view=event&id=1271\n
DTSTART:20251024T110000Z
DTEND:20251024T110000Z
LOCATION:Café Stadtgespräch\,Königstraße 2\,72108 Rottenburg
SUMMARY:Herr Fuchs mag Po-esie!
URL:https://www.foerderverein-stadtbibliothek-rottenburg.de/index.php?optio
 n=com_jem&view=event&id=1271
END:VEVENT
END:VCALENDAR
