BEGIN:VCALENDAR
VERSION:2.0
PRODID:-//217.160.0.23//NONSGML kigkonsult.se iCalcreator 2.20//
CALSCALE:GREGORIAN
METHOD:PUBLISH
X-WR-TIMEZONE:UTC
BEGIN:VEVENT
UID:event1267@Förderverein Stadtbibliothek Rottenburg
DTSTAMP:20260423T024537Z
CATEGORIES:allgemeine Veranstaltung
DESCRIPTION:Alles ganz anders? Von kleinen und großen Tatzen\nKategorie: al
 lgemeine Veranstaltung\nICS-Link: https://www.foerderverein-stadtbibliothe
 k-rottenburg.de/index.php?option=com_jem&view=event&id=1267\n
DTSTART:20251022T143000Z
DTEND:20251022T143000Z
LOCATION:Café Stadtgespräch\,Königstraße 2\,72108 Rottenburg
SUMMARY:Alles ganz anders? Von kleinen und großen Tatzen
URL:https://www.foerderverein-stadtbibliothek-rottenburg.de/index.php?optio
 n=com_jem&view=event&id=1267
END:VEVENT
END:VCALENDAR
