BEGIN:VCALENDAR
VERSION:2.0
PRODID:-//217.160.0.23//NONSGML kigkonsult.se iCalcreator 2.20//
CALSCALE:GREGORIAN
METHOD:PUBLISH
X-WR-TIMEZONE:UTC
BEGIN:VEVENT
UID:event1254@Förderverein Stadtbibliothek Rottenburg
DTSTAMP:20260423T005105Z
CATEGORIES:allgemeine Veranstaltung
DESCRIPTION:Alb. Literarischer Wegweiser mit Wolfgang Alber und Carolin Alb
 ers\nKategorie: allgemeine Veranstaltung\nICS-Link: https://www.foerderver
 ein-stadtbibliothek-rottenburg.de/index.php?option=com_jem&view=event&id=1
 254\n
DTSTART:20251125T193000Z
DTEND:20251125T193000Z
LOCATION:Café Stadtgespräch\,Königstraße 2\,72108 Rottenburg
SUMMARY:Alb. Literarischer Wegweiser mit Wolfgang Alber und Carolin Albers
URL:https://www.foerderverein-stadtbibliothek-rottenburg.de/index.php?optio
 n=com_jem&view=event&id=1254
END:VEVENT
END:VCALENDAR
