BEGIN:VCALENDAR
VERSION:2.0
PRODID:-//217.160.0.23//NONSGML kigkonsult.se iCalcreator 2.20//
CALSCALE:GREGORIAN
METHOD:PUBLISH
X-WR-TIMEZONE:UTC
BEGIN:VEVENT
UID:event1216@Förderverein Stadtbibliothek Rottenburg
DTSTAMP:20260425T102321Z
CATEGORIES:allgemeine Veranstaltung
DESCRIPTION:Eugen-Bolz-Gedenktag \nKategorie: allgemeine Veranstaltung\nICS
 -Link: https://www.foerderverein-stadtbibliothek-rottenburg.de/index.php?o
 ption=com_jem&view=event&id=1216\n
DTSTART:20250123T103000Z
DTEND:20250123T230000Z
LOCATION:Café Stadtgespräch\,Königstraße 2\,72108 Rottenburg
SUMMARY:Eugen-Bolz-Gedenktag 
URL:https://www.foerderverein-stadtbibliothek-rottenburg.de/index.php?optio
 n=com_jem&view=event&id=1216
END:VEVENT
END:VCALENDAR
