BEGIN:VCALENDAR
VERSION:2.0
PRODID:-//217.160.0.23//NONSGML kigkonsult.se iCalcreator 2.20//
CALSCALE:GREGORIAN
METHOD:PUBLISH
X-WR-TIMEZONE:UTC
BEGIN:VEVENT
UID:event1210@Förderverein Stadtbibliothek Rottenburg
DTSTAMP:20260425T102323Z
CATEGORIES:allgemeine Veranstaltung
DESCRIPTION:Black Friday Aktionswoche\nKategorie: allgemeine Veranstaltung
 \nICS-Link: https://www.foerderverein-stadtbibliothek-rottenburg.de/index.
 php?option=com_jem&view=event&id=1210\n
DTSTART:20241126T000000Z
DTEND:20241126T000000Z
LOCATION:Café Stadtgespräch\,Königstraße 2\,72108 Rottenburg
SUMMARY:Black Friday Aktionswoche
URL:https://www.foerderverein-stadtbibliothek-rottenburg.de/index.php?optio
 n=com_jem&view=event&id=1210
END:VEVENT
END:VCALENDAR
