BEGIN:VCALENDAR
VERSION:2.0
PRODID:-//217.160.0.23//NONSGML kigkonsult.se iCalcreator 2.20//
CALSCALE:GREGORIAN
METHOD:PUBLISH
X-WR-TIMEZONE:UTC
BEGIN:VEVENT
UID:event1203@Förderverein Stadtbibliothek Rottenburg
DTSTAMP:20260423T063247Z
CATEGORIES:allgemeine Veranstaltung
DESCRIPTION:Dezemberträume - Tannenduft\nKategorie: allgemeine Veranstaltun
 g\nICS-Link: https://www.foerderverein-stadtbibliothek-rottenburg.de/index
 .php?option=com_jem&view=event&id=1203\n
DTSTART:20241215T150000Z
DTEND:20241215T150000Z
LOCATION:Café Stadtgespräch\,Königstraße 2\,72108 Rottenburg
SUMMARY:Dezemberträume - Tannenduft
URL:https://www.foerderverein-stadtbibliothek-rottenburg.de/index.php?optio
 n=com_jem&view=event&id=1203
END:VEVENT
END:VCALENDAR
