BEGIN:VCALENDAR
VERSION:2.0
PRODID:-//217.160.0.23//NONSGML kigkonsult.se iCalcreator 2.20//
CALSCALE:GREGORIAN
METHOD:PUBLISH
X-WR-TIMEZONE:UTC
BEGIN:VEVENT
UID:event1200@Förderverein Stadtbibliothek Rottenburg
DTSTAMP:20260423T081025Z
CATEGORIES:allgemeine Veranstaltung
DESCRIPTION:Germana Fabiano liest aus ihrem Roman Mattanza\nKategorie: allg
 emeine Veranstaltung\nICS-Link: https://www.foerderverein-stadtbibliothek-
 rottenburg.de/index.php?option=com_jem&view=event&id=1200\n
DTSTART:20241025T193000Z
DTEND:20241025T193000Z
LOCATION:Café Stadtgespräch\,Königstraße 2\,72108 Rottenburg
SUMMARY:Germana Fabiano liest aus ihrem Roman Mattanza
URL:https://www.foerderverein-stadtbibliothek-rottenburg.de/index.php?optio
 n=com_jem&view=event&id=1200
END:VEVENT
END:VCALENDAR
