BEGIN:VCALENDAR
VERSION:2.0
PRODID:-//217.160.0.23//NONSGML kigkonsult.se iCalcreator 2.20//
CALSCALE:GREGORIAN
METHOD:PUBLISH
X-WR-TIMEZONE:UTC
BEGIN:VEVENT
UID:event1193@Förderverein Stadtbibliothek Rottenburg
DTSTAMP:20260423T081100Z
CATEGORIES:allgemeine Veranstaltung
DESCRIPTION:Dem Bücherwurm auf der Spur  durch Raum und Zeit\nKategorie: al
 lgemeine Veranstaltung\nICS-Link: https://www.foerderverein-stadtbibliothe
 k-rottenburg.de/index.php?option=com_jem&view=event&id=1193\n
DTSTART:20241028T090000Z
DTEND:20241028T090000Z
LOCATION:Café Stadtgespräch\,Königstraße 2\,72108 Rottenburg
SUMMARY:Dem Bücherwurm auf der Spur  durch Raum und Zeit
URL:https://www.foerderverein-stadtbibliothek-rottenburg.de/index.php?optio
 n=com_jem&view=event&id=1193
END:VEVENT
END:VCALENDAR
