BEGIN:VCALENDAR
VERSION:2.0
PRODID:-//217.160.0.23//NONSGML kigkonsult.se iCalcreator 2.20//
CALSCALE:GREGORIAN
METHOD:PUBLISH
X-WR-TIMEZONE:UTC
BEGIN:VEVENT
UID:event1188@Förderverein Stadtbibliothek Rottenburg
DTSTAMP:20260423T081101Z
CATEGORIES:allgemeine Veranstaltung
DESCRIPTION:Die Welt der Farben entdecken\nKategorie: allgemeine Veranstalt
 ung\nICS-Link: https://www.foerderverein-stadtbibliothek-rottenburg.de/ind
 ex.php?option=com_jem&view=event&id=1188\n
DTSTART:20241026T100000Z
DTEND:20241026T100000Z
LOCATION:Café Stadtgespräch\,Königstraße 2\,72108 Rottenburg
SUMMARY:Die Welt der Farben entdecken
URL:https://www.foerderverein-stadtbibliothek-rottenburg.de/index.php?optio
 n=com_jem&view=event&id=1188
END:VEVENT
END:VCALENDAR
