BEGIN:VCALENDAR
VERSION:2.0
PRODID:-//217.160.0.23//NONSGML kigkonsult.se iCalcreator 2.20//
CALSCALE:GREGORIAN
METHOD:PUBLISH
X-WR-TIMEZONE:UTC
BEGIN:VEVENT
UID:event1187@Förderverein Stadtbibliothek Rottenburg
DTSTAMP:20260423T083106Z
CATEGORIES:allgemeine Veranstaltung
DESCRIPTION:Die (un)langweiligste Schule der Welt\nKategorie: allgemeine Ve
 ranstaltung\nICS-Link: https://www.foerderverein-stadtbibliothek-rottenbur
 g.de/index.php?option=com_jem&view=event&id=1187\n
DTSTART:20241025T140000Z
DTEND:20241025T140000Z
LOCATION:Café Stadtgespräch\,Königstraße 2\,72108 Rottenburg
SUMMARY:Die (un)langweiligste Schule der Welt
URL:https://www.foerderverein-stadtbibliothek-rottenburg.de/index.php?optio
 n=com_jem&view=event&id=1187
END:VEVENT
END:VCALENDAR
