BEGIN:VCALENDAR
VERSION:2.0
PRODID:-//217.160.0.23//NONSGML kigkonsult.se iCalcreator 2.20//
CALSCALE:GREGORIAN
METHOD:PUBLISH
X-WR-TIMEZONE:UTC
BEGIN:VEVENT
UID:event1186@Förderverein Stadtbibliothek Rottenburg
DTSTAMP:20260423T083049Z
CATEGORIES:allgemeine Veranstaltung
DESCRIPTION:Leserattennacht\nKategorie: allgemeine Veranstaltung\nICS-Link:
  https://www.foerderverein-stadtbibliothek-rottenburg.de/index.php?option=
 com_jem&view=event&id=1186\n
DTSTART:20241025T190000Z
DTEND:20241025T190000Z
LOCATION:Café Stadtgespräch\,Königstraße 2\,72108 Rottenburg
SUMMARY:Leserattennacht
URL:https://www.foerderverein-stadtbibliothek-rottenburg.de/index.php?optio
 n=com_jem&view=event&id=1186
END:VEVENT
END:VCALENDAR
