BEGIN:VCALENDAR
VERSION:2.0
PRODID:-//217.160.0.23//NONSGML kigkonsult.se iCalcreator 2.20//
CALSCALE:GREGORIAN
METHOD:PUBLISH
X-WR-TIMEZONE:UTC
BEGIN:VEVENT
UID:event1182@Förderverein Stadtbibliothek Rottenburg
DTSTAMP:20260423T083049Z
CATEGORIES:allgemeine Veranstaltung
DESCRIPTION:Good Night Stories for Rebel Girls\nKategorie: allgemeine Veran
 staltung\nICS-Link: https://www.foerderverein-stadtbibliothek-rottenburg.d
 e/index.php?option=com_jem&view=event&id=1182\n
DTSTART:20241024T180000Z
DTEND:20241024T180000Z
LOCATION:Café Stadtgespräch\,Königstraße 2\,72108 Rottenburg
SUMMARY:Good Night Stories for Rebel Girls
URL:https://www.foerderverein-stadtbibliothek-rottenburg.de/index.php?optio
 n=com_jem&view=event&id=1182
END:VEVENT
END:VCALENDAR
