BEGIN:VCALENDAR
VERSION:2.0
PRODID:-//217.160.0.23//NONSGML kigkonsult.se iCalcreator 2.20//
CALSCALE:GREGORIAN
METHOD:PUBLISH
X-WR-TIMEZONE:UTC
BEGIN:VEVENT
UID:event1179@Förderverein Stadtbibliothek Rottenburg
DTSTAMP:20260423T123112Z
CATEGORIES:allgemeine Veranstaltung
DESCRIPTION:Pettersson & Findus\nKategorie: allgemeine Veranstaltung\nICS-L
 ink: https://www.foerderverein-stadtbibliothek-rottenburg.de/index.php?opt
 ion=com_jem&view=event&id=1179\n
DTSTART:20241023T140000Z
DTEND:20241023T140000Z
LOCATION:Café Stadtgespräch\,Königstraße 2\,72108 Rottenburg
SUMMARY:Pettersson & Findus
URL:https://www.foerderverein-stadtbibliothek-rottenburg.de/index.php?optio
 n=com_jem&view=event&id=1179
END:VEVENT
END:VCALENDAR
