BEGIN:VCALENDAR
VERSION:2.0
PRODID:-//217.160.0.23//NONSGML kigkonsult.se iCalcreator 2.20//
CALSCALE:GREGORIAN
METHOD:PUBLISH
X-WR-TIMEZONE:UTC
BEGIN:VEVENT
UID:event1178@Förderverein Stadtbibliothek Rottenburg
DTSTAMP:20260423T123228Z
CATEGORIES:allgemeine Veranstaltung
DESCRIPTION:Die Kuh Lieselotte\nKategorie: allgemeine Veranstaltung\nICS-Li
 nk: https://www.foerderverein-stadtbibliothek-rottenburg.de/index.php?opti
 on=com_jem&view=event&id=1178\n
DTSTART:20241023T084500Z
DTEND:20241023T084500Z
LOCATION:Café Stadtgespräch\,Königstraße 2\,72108 Rottenburg
SUMMARY:Die Kuh Lieselotte
URL:https://www.foerderverein-stadtbibliothek-rottenburg.de/index.php?optio
 n=com_jem&view=event&id=1178
END:VEVENT
END:VCALENDAR
