BEGIN:VCALENDAR
VERSION:2.0
PRODID:-//217.160.0.23//NONSGML kigkonsult.se iCalcreator 2.20//
CALSCALE:GREGORIAN
METHOD:PUBLISH
X-WR-TIMEZONE:UTC
BEGIN:VEVENT
UID:event1172@Förderverein Stadtbibliothek Rottenburg
DTSTAMP:20260423T093223Z
CATEGORIES:allgemeine Veranstaltung
DESCRIPTION:Freiheit von und zu - Feminismus reloaded\nKategorie: allgemein
 e Veranstaltung\nICS-Link: https://www.foerderverein-stadtbibliothek-rotte
 nburg.de/index.php?option=com_jem&view=event&id=1172\n
DTSTART:20240921T193000Z
DTEND:20240921T193000Z
LOCATION:Café Stadtgespräch\,Königstraße 2\,72108 Rottenburg
SUMMARY:Freiheit von und zu - Feminismus reloaded
URL:https://www.foerderverein-stadtbibliothek-rottenburg.de/index.php?optio
 n=com_jem&view=event&id=1172
END:VEVENT
END:VCALENDAR
