BEGIN:VCALENDAR
VERSION:2.0
PRODID:-//217.160.0.23//NONSGML kigkonsult.se iCalcreator 2.20//
CALSCALE:GREGORIAN
METHOD:PUBLISH
X-WR-TIMEZONE:UTC
BEGIN:VEVENT
UID:event1157@Förderverein Stadtbibliothek Rottenburg
DTSTAMP:20260423T093300Z
CATEGORIES:allgemeine Veranstaltung
DESCRIPTION:Autobilderbuchkino\nKategorie: allgemeine Veranstaltung\nICS-Li
 nk: https://www.foerderverein-stadtbibliothek-rottenburg.de/index.php?opti
 on=com_jem&view=event&id=1157\n
DTSTART:20241016T160000Z
DTEND:20241016T160000Z
LOCATION:Café Stadtgespräch\,Königstraße 2\,72108 Rottenburg
SUMMARY:Autobilderbuchkino
URL:https://www.foerderverein-stadtbibliothek-rottenburg.de/index.php?optio
 n=com_jem&view=event&id=1157
END:VEVENT
END:VCALENDAR
