BEGIN:VCALENDAR
VERSION:2.0
PRODID:-//217.160.0.23//NONSGML kigkonsult.se iCalcreator 2.20//
CALSCALE:GREGORIAN
METHOD:PUBLISH
X-WR-TIMEZONE:UTC
BEGIN:VEVENT
UID:event1155@Förderverein Stadtbibliothek Rottenburg
DTSTAMP:20260423T093103Z
CATEGORIES:allgemeine Veranstaltung
DESCRIPTION:Vielfalt lesen! - Bücher in anderen Sprachen\nKategorie: allgem
 eine Veranstaltung\nICS-Link: https://www.foerderverein-stadtbibliothek-ro
 ttenburg.de/index.php?option=com_jem&view=event&id=1155\n
DTSTART:20240922T000000Z
DTEND:20240922T000000Z
LOCATION:Café Stadtgespräch\,Königstraße 2\,72108 Rottenburg
SUMMARY:Vielfalt lesen! - Bücher in anderen Sprachen
URL:https://www.foerderverein-stadtbibliothek-rottenburg.de/index.php?optio
 n=com_jem&view=event&id=1155
END:VEVENT
END:VCALENDAR
