BEGIN:VCALENDAR
VERSION:2.0
PRODID:-//217.160.0.23//NONSGML kigkonsult.se iCalcreator 2.20//
CALSCALE:GREGORIAN
METHOD:PUBLISH
X-WR-TIMEZONE:UTC
BEGIN:VEVENT
UID:event1146@Förderverein Stadtbibliothek Rottenburg
DTSTAMP:20260423T160800Z
CATEGORIES:allgemeine Veranstaltung
DESCRIPTION:Europa - literarisch\, musikalisch\, kulinarisch\nKategorie: al
 lgemeine Veranstaltung\nICS-Link: https://www.foerderverein-stadtbibliothe
 k-rottenburg.de/index.php?option=com_jem&view=event&id=1146\n
DTSTART:20240502T193000Z
DTEND:20240502T193000Z
LOCATION:Café Stadtgespräch\,Königstraße 2\,72108 Rottenburg
SUMMARY:Europa - literarisch\, musikalisch\, kulinarisch
URL:https://www.foerderverein-stadtbibliothek-rottenburg.de/index.php?optio
 n=com_jem&view=event&id=1146
END:VEVENT
END:VCALENDAR
