BEGIN:VCALENDAR
VERSION:2.0
PRODID:-//217.160.0.23//NONSGML kigkonsult.se iCalcreator 2.20//
CALSCALE:GREGORIAN
METHOD:PUBLISH
X-WR-TIMEZONE:UTC
BEGIN:VEVENT
UID:event1115@Förderverein Stadtbibliothek Rottenburg
DTSTAMP:20260423T125920Z
CATEGORIES:allgemeine Veranstaltung
DESCRIPTION:Schullesung mit Alice Pantermüller\nKategorie: allgemeine Veran
 staltung\nICS-Link: https://www.foerderverein-stadtbibliothek-rottenburg.d
 e/index.php?option=com_jem&view=event&id=1115\n
DTSTART:20240417T093000Z
DTEND:20240417T093000Z
LOCATION:Café Stadtgespräch\,Königstraße 2\,72108 Rottenburg
SUMMARY:Schullesung mit Alice Pantermüller
URL:https://www.foerderverein-stadtbibliothek-rottenburg.de/index.php?optio
 n=com_jem&view=event&id=1115
END:VEVENT
END:VCALENDAR
