BEGIN:VCALENDAR
VERSION:2.0
PRODID:-//217.160.0.23//NONSGML kigkonsult.se iCalcreator 2.20//
CALSCALE:GREGORIAN
METHOD:PUBLISH
X-WR-TIMEZONE:UTC
BEGIN:VEVENT
UID:event1090@Förderverein Stadtbibliothek Rottenburg
DTSTAMP:20260423T142519Z
CATEGORIES:allgemeine Veranstaltung
DESCRIPTION:Unterwegs - Ausstellung von Andreas Weber\nKategorie: allgemein
 e Veranstaltung\nICS-Link: https://www.foerderverein-stadtbibliothek-rotte
 nburg.de/index.php?option=com_jem&view=event&id=1090\n
DTSTART:20240109T000000Z
DTEND:20240109T000000Z
LOCATION:Café Stadtgespräch\,Königstraße 2\,72108 Rottenburg
SUMMARY:Unterwegs - Ausstellung von Andreas Weber
URL:https://www.foerderverein-stadtbibliothek-rottenburg.de/index.php?optio
 n=com_jem&view=event&id=1090
END:VEVENT
END:VCALENDAR
