BEGIN:VCALENDAR
VERSION:2.0
PRODID:-//217.160.0.23//NONSGML kigkonsult.se iCalcreator 2.20//
CALSCALE:GREGORIAN
METHOD:PUBLISH
X-WR-TIMEZONE:UTC
BEGIN:VEVENT
UID:event1065@Förderverein Stadtbibliothek Rottenburg
DTSTAMP:20260423T143754Z
CATEGORIES:allgemeine Veranstaltung
DESCRIPTION:Geschichten vom Franz\nKategorie: allgemeine Veranstaltung\nICS
 -Link: https://www.foerderverein-stadtbibliothek-rottenburg.de/index.php?o
 ption=com_jem&view=event&id=1065\n
DTSTART:20231028T140000Z
DTEND:20231028T140000Z
LOCATION:Café Stadtgespräch\,Königstraße 2\,72108 Rottenburg
SUMMARY:Geschichten vom Franz
URL:https://www.foerderverein-stadtbibliothek-rottenburg.de/index.php?optio
 n=com_jem&view=event&id=1065
END:VEVENT
END:VCALENDAR
