BEGIN:VCALENDAR
VERSION:2.0
PRODID:-//217.160.0.23//NONSGML kigkonsult.se iCalcreator 2.20//
CALSCALE:GREGORIAN
METHOD:PUBLISH
X-WR-TIMEZONE:UTC
BEGIN:VEVENT
UID:event1054@Förderverein Stadtbibliothek Rottenburg
DTSTAMP:20260423T143827Z
CATEGORIES:allgemeine Veranstaltung
DESCRIPTION:Robowerkstatt\nKategorie: allgemeine Veranstaltung\nICS-Link: h
 ttps://www.foerderverein-stadtbibliothek-rottenburg.de/index.php?option=co
 m_jem&view=event&id=1054\n
DTSTART:20231020T150000Z
DTEND:20231020T150000Z
LOCATION:Café Stadtgespräch\,Königstraße 2\,72108 Rottenburg
SUMMARY:Robowerkstatt
URL:https://www.foerderverein-stadtbibliothek-rottenburg.de/index.php?optio
 n=com_jem&view=event&id=1054
END:VEVENT
END:VCALENDAR
