BEGIN:VCALENDAR
VERSION:2.0
PRODID:-//217.160.0.23//NONSGML kigkonsult.se iCalcreator 2.20//
CALSCALE:GREGORIAN
METHOD:PUBLISH
X-WR-TIMEZONE:UTC
BEGIN:VEVENT
UID:event1049@Förderverein Stadtbibliothek Rottenburg
DTSTAMP:20260423T034020Z
CATEGORIES:allgemeine Veranstaltung
DESCRIPTION:Der kleine König\nKategorie: allgemeine Veranstaltung\nICS-Link
 : https://www.foerderverein-stadtbibliothek-rottenburg.de/index.php?option
 =com_jem&view=event&id=1049\n
DTSTART:20231017T100000Z
DTEND:20231017T100000Z
LOCATION:Café Stadtgespräch\,Königstraße 2\,72108 Rottenburg
SUMMARY:Der kleine König
URL:https://www.foerderverein-stadtbibliothek-rottenburg.de/index.php?optio
 n=com_jem&view=event&id=1049
END:VEVENT
END:VCALENDAR
